BEGIN:VCALENDAR
VERSION:2.0
PRODID:-//My Calendar//http://www.joedolson.com//v3.2.17//EN
METHOD:PUBLISH
CALSCALE:GREGORIAN
X-WR-CALNAME:Penn Cambria School District
X-PUBLISHED-TTL:PT24H
REFRESH-INTERVAL;VALUE=DURATION:PT24H
X-WR-CALDESC:Events from Penn Cambria School District
BEGIN:VEVENT
UID:1460-629
LOCATION:
SUMMARY:Spring Break
DTSTAMP:20260313T000000
ORGANIZER;CN=Jeanette Black:MAILTO:blackjl@pcam.org
DTSTART;TZID=Etc/GMT+5:20260313T000000
DTEND;TZID=Etc/GMT+5:20260314T000000
URL;VALUE=URI:http://www.pcam.org/my-calendar/
DESCRIPTION:March 13 - Spring Break 
CATEGORIES:General
X-FUNAMBOL-ALLDAY: 1
X-MICROSOFT-CDO-ALLDAYEVENT: TRUE

END:VEVENT
BEGIN:VEVENT
UID:1432-620
LOCATION:
SUMMARY:Spring Break - No School
DTSTAMP:20260313T000000
ORGANIZER;CN=Jacquelyn Mento:MAILTO:mentojp@pcam.org
DTSTART;TZID=Etc/GMT+5:20260313T000000
DTEND;TZID=Etc/GMT+5:20260314T000000
URL;VALUE=URI:http://www.pcam.org/my-calendar/
DESCRIPTION: 
CATEGORIES:Athletics
X-FUNAMBOL-ALLDAY: 1
X-MICROSOFT-CDO-ALLDAYEVENT: TRUE

END:VEVENT
BEGIN:VEVENT
UID:1459-628
LOCATION:
SUMMARY:News Year's Holiday
DTSTAMP:20260102T000000
ORGANIZER;CN=Jacquelyn Mento:MAILTO:mentojp@pcam.org
DTSTART;TZID=Etc/GMT+5:20260102T000000
DTEND;TZID=Etc/GMT+5:20260103T000000
URL;VALUE=URI:http://www.pcam.org/my-calendar/
DESCRIPTION: 
CATEGORIES:General
X-FUNAMBOL-ALLDAY: 1
X-MICROSOFT-CDO-ALLDAYEVENT: TRUE

END:VEVENT
BEGIN:VEVENT
UID:1438-621
LOCATION:
SUMMARY:New Year's Holiday - No School
DTSTAMP:20260102T000000
ORGANIZER;CN=Jacquelyn Mento:MAILTO:mentojp@pcam.org
DTSTART;TZID=Etc/GMT+5:20260102T000000
DTEND;TZID=Etc/GMT+5:20260103T000000
URL;VALUE=URI:http://www.pcam.org/my-calendar/
DESCRIPTION: 
CATEGORIES:Athletics
X-FUNAMBOL-ALLDAY: 1
X-MICROSOFT-CDO-ALLDAYEVENT: TRUE

END:VEVENT
BEGIN:VEVENT
UID:1458-627
LOCATION:
SUMMARY:PCMS Picture Re-Take Day
DTSTAMP:20251103T000000
ORGANIZER;CN=Robin Stasik:MAILTO:StasikRL@pcam.org
DTSTART;TZID=Etc/GMT+5:20251103T000000
DTEND;TZID=Etc/GMT+5:20251104T000000
URL;VALUE=URI:http://www.pcam.org/my-calendar/
DESCRIPTION: 
CATEGORIES:Middle School
X-FUNAMBOL-ALLDAY: 1
X-MICROSOFT-CDO-ALLDAYEVENT: TRUE

END:VEVENT
BEGIN:VEVENT
UID:1457-626
LOCATION:
SUMMARY:Picture Re-Take Day
DTSTAMP:20251003T000000
ORGANIZER;CN=Robin Stasik:MAILTO:StasikRL@pcam.org
DTSTART;TZID=Etc/GMT+5:20251003T000000
DTEND;TZID=Etc/GMT+5:20251004T000000
URL;VALUE=URI:http://www.pcam.org/my-calendar/
DESCRIPTION: 
CATEGORIES:Middle School
X-FUNAMBOL-ALLDAY: 1
X-MICROSOFT-CDO-ALLDAYEVENT: TRUE

END:VEVENT
BEGIN:VEVENT
UID:1456-625
LOCATION:
SUMMARY:Middle School Picture Day
DTSTAMP:20250922T000000
ORGANIZER;CN=Robin Stasik:MAILTO:StasikRL@pcam.org
DTSTART;TZID=Etc/GMT+5:20250922T000000
DTEND;TZID=Etc/GMT+5:20250923T000000
URL;VALUE=URI:http://www.pcam.org/my-calendar/
DESCRIPTION: 
CATEGORIES:Middle School
X-FUNAMBOL-ALLDAY: 1
X-MICROSOFT-CDO-ALLDAYEVENT: TRUE

END:VEVENT
BEGIN:VEVENT
UID:1455-624
LOCATION:
SUMMARY:Middle School Picture Day
DTSTAMP:20250922T000000
ORGANIZER;CN=Robin Stasik:MAILTO:StasikRL@pcam.org
DTSTART;TZID=Etc/GMT+5:20250922T000000
DTEND;TZID=Etc/GMT+5:20250923T000000
URL;VALUE=URI:http://www.pcam.org/my-calendar/
DESCRIPTION: 
CATEGORIES:Athletics
X-FUNAMBOL-ALLDAY: 1
X-MICROSOFT-CDO-ALLDAYEVENT: TRUE

END:VEVENT
BEGIN:VEVENT
UID:1450-623
LOCATION:
SUMMARY:Easter Vacation - School District Closed
DTSTAMP:20260403T000000
ORGANIZER;CN=Jacquelyn Mento:MAILTO:mentojp@pcam.org
DTSTART;TZID=Etc/GMT+5:20260403T000000
DTEND;TZID=Etc/GMT+5:20260404T000000
URL;VALUE=URI:http://www.pcam.org/my-calendar/
DESCRIPTION: 
CATEGORIES:General
X-FUNAMBOL-ALLDAY: 1
X-MICROSOFT-CDO-ALLDAYEVENT: TRUE

END:VEVENT
BEGIN:VEVENT
UID:1448-622
LOCATION:
SUMMARY:Graduation
DTSTAMP:20250531T000000
ORGANIZER;CN=Jacquelyn Mento:MAILTO:mentojp@pcam.org
DTSTART;TZID=Etc/GMT+5:20250531T000000
DTEND;TZID=Etc/GMT+5:20250601T000000
URL;VALUE=URI:http://www.pcam.org/my-calendar/
DESCRIPTION: 
CATEGORIES:General
X-FUNAMBOL-ALLDAY: 1
X-MICROSOFT-CDO-ALLDAYEVENT: TRUE

END:VEVENT
BEGIN:VEVENT
UID:1431-619
LOCATION:
SUMMARY:Easter Vacation - School District Closed
DTSTAMP:20250418T000000
ORGANIZER;CN=Jacquelyn Mento:MAILTO:mentojp@pcam.org
DTSTART;TZID=Etc/GMT+5:20250418T000000
DTEND;TZID=Etc/GMT+5:20250419T000000
URL;VALUE=URI:http://www.pcam.org/my-calendar/
DESCRIPTION: 
CATEGORIES:General
X-FUNAMBOL-ALLDAY: 1
X-MICROSOFT-CDO-ALLDAYEVENT: TRUE

END:VEVENT
BEGIN:VEVENT
UID:1429-617
LOCATION:
SUMMARY:Make Up Day - In Session
DTSTAMP:20260406T000000
ORGANIZER;CN=Jacquelyn Mento:MAILTO:mentojp@pcam.org
DTSTART;TZID=Etc/GMT+5:20260406T000000
DTEND;TZID=Etc/GMT+5:20260407T000000
URL;VALUE=URI:http://www.pcam.org/my-calendar/
DESCRIPTION: 
CATEGORIES:General
X-FUNAMBOL-ALLDAY: 1
X-MICROSOFT-CDO-ALLDAYEVENT: TRUE

END:VEVENT
BEGIN:VEVENT
UID:1428-616
LOCATION:
SUMMARY:Memorial Day - School District Closed
DTSTAMP:20260525T000000
ORGANIZER;CN=Jacquelyn Mento:MAILTO:mentojp@pcam.org
DTSTART;TZID=Etc/GMT+5:20260525T000000
DTEND;TZID=Etc/GMT+5:20260526T000000
URL;VALUE=URI:http://www.pcam.org/my-calendar/
DESCRIPTION: 
CATEGORIES:General
X-FUNAMBOL-ALLDAY: 1
X-MICROSOFT-CDO-ALLDAYEVENT: TRUE

END:VEVENT
BEGIN:VEVENT
UID:1425-615
LOCATION:
SUMMARY:4th of July - School District Closed
DTSTAMP:20250704T000000
ORGANIZER;CN=Jacquelyn Mento:MAILTO:mentojp@pcam.org
DTSTART;TZID=Etc/GMT+5:20250704T000000
DTEND;TZID=Etc/GMT+5:20250705T000000
URL;VALUE=URI:http://www.pcam.org/my-calendar/
DESCRIPTION: 
CATEGORIES:General
X-FUNAMBOL-ALLDAY: 1
X-MICROSOFT-CDO-ALLDAYEVENT: TRUE

END:VEVENT
BEGIN:VEVENT
UID:1454-614
LOCATION:
SUMMARY:Last day for students (full day)
DTSTAMP:20250527T000000
ORGANIZER;CN=Jacquelyn Mento:MAILTO:mentojp@pcam.org
DTSTART;TZID=Etc/GMT+5:20250527T000000
DTEND;TZID=Etc/GMT+5:20250528T000000
URL;VALUE=URI:http://www.pcam.org/my-calendar/
DESCRIPTION: 
CATEGORIES:General
X-FUNAMBOL-ALLDAY: 1
X-MICROSOFT-CDO-ALLDAYEVENT: TRUE

END:VEVENT
BEGIN:VEVENT
UID:1451-613
LOCATION:
SUMMARY:End of 3rd Qtr.
DTSTAMP:20250321T000000
ORGANIZER;CN=Jacquelyn Mento:MAILTO:mentojp@pcam.org
DTSTART;TZID=Etc/GMT+5:20250321T000000
DTEND;TZID=Etc/GMT+5:20250322T000000
URL;VALUE=URI:http://www.pcam.org/my-calendar/
DESCRIPTION: 
CATEGORIES:General
X-FUNAMBOL-ALLDAY: 1
X-MICROSOFT-CDO-ALLDAYEVENT: TRUE

END:VEVENT
BEGIN:VEVENT
UID:1421-612
LOCATION:
SUMMARY:Two-hour Early Dismissal
DTSTAMP:20260417T000000
ORGANIZER;CN=Jacquelyn Mento:MAILTO:mentojp@pcam.org
DTSTART;TZID=Etc/GMT+5:20260417T000000
DTEND;TZID=Etc/GMT+5:20260418T000000
URL;VALUE=URI:http://www.pcam.org/my-calendar/
DESCRIPTION: 
CATEGORIES:General
X-FUNAMBOL-ALLDAY: 1
X-MICROSOFT-CDO-ALLDAYEVENT: TRUE

END:VEVENT
BEGIN:VEVENT
UID:1420-611
LOCATION:
SUMMARY:Two-hour Early Dismissal
DTSTAMP:20260320T000000
ORGANIZER;CN=Jacquelyn Mento:MAILTO:mentojp@pcam.org
DTSTART;TZID=Etc/GMT+5:20260320T000000
DTEND;TZID=Etc/GMT+5:20260321T000000
URL;VALUE=URI:http://www.pcam.org/my-calendar/
DESCRIPTION: 
CATEGORIES:General
X-FUNAMBOL-ALLDAY: 1
X-MICROSOFT-CDO-ALLDAYEVENT: TRUE

END:VEVENT
BEGIN:VEVENT
UID:1419-610
LOCATION:
SUMMARY:Two-hour Early Dismissal
DTSTAMP:20260213T000000
ORGANIZER;CN=Jacquelyn Mento:MAILTO:mentojp@pcam.org
DTSTART;TZID=Etc/GMT+5:20260213T000000
DTEND;TZID=Etc/GMT+5:20260214T000000
URL;VALUE=URI:http://www.pcam.org/my-calendar/
DESCRIPTION: 
CATEGORIES:General
X-FUNAMBOL-ALLDAY: 1
X-MICROSOFT-CDO-ALLDAYEVENT: TRUE

END:VEVENT
BEGIN:VEVENT
UID:1418-609
LOCATION:
SUMMARY:Two-hour Early Dismissal
DTSTAMP:20251223T000000
ORGANIZER;CN=Jacquelyn Mento:MAILTO:mentojp@pcam.org
DTSTART;TZID=Etc/GMT+5:20251223T000000
DTEND;TZID=Etc/GMT+5:20251224T000000
URL;VALUE=URI:http://www.pcam.org/my-calendar/
DESCRIPTION: 
CATEGORIES:General
X-FUNAMBOL-ALLDAY: 1
X-MICROSOFT-CDO-ALLDAYEVENT: TRUE

END:VEVENT
BEGIN:VEVENT
UID:1417-608
LOCATION:
SUMMARY:Two-hour Early Dismissal
DTSTAMP:20251107T000000
ORGANIZER;CN=Jacquelyn Mento:MAILTO:mentojp@pcam.org
DTSTART;TZID=Etc/GMT+5:20251107T000000
DTEND;TZID=Etc/GMT+5:20251108T000000
URL;VALUE=URI:http://www.pcam.org/my-calendar/
DESCRIPTION: 
CATEGORIES:General
X-FUNAMBOL-ALLDAY: 1
X-MICROSOFT-CDO-ALLDAYEVENT: TRUE

END:VEVENT
BEGIN:VEVENT
UID:1416-607
LOCATION:
SUMMARY:Two-hour Early Dismissal
DTSTAMP:20251024T000000
ORGANIZER;CN=Jacquelyn Mento:MAILTO:mentojp@pcam.org
DTSTART;TZID=Etc/GMT+5:20251024T000000
DTEND;TZID=Etc/GMT+5:20251025T000000
URL;VALUE=URI:http://www.pcam.org/my-calendar/
DESCRIPTION: 
CATEGORIES:General
X-FUNAMBOL-ALLDAY: 1
X-MICROSOFT-CDO-ALLDAYEVENT: TRUE

END:VEVENT
BEGIN:VEVENT
UID:1411-606
LOCATION:
SUMMARY:7th &amp; 8th Grade Middle School Semi-Formal Dance
DTSTAMP:20250329T180000
ORGANIZER;CN=Robin Stasik:MAILTO:StasikRL@pcam.org
DTSTART;TZID=Etc/GMT+5:20250329T180000
DTEND;TZID=Etc/GMT+5:20250329T210000
URL;VALUE=URI:http://www.pcam.org/my-calendar/
DESCRIPTION: 
CATEGORIES:Middle School
END:VEVENT
BEGIN:VEVENT
UID:1410-605
LOCATION:
SUMMARY:Band/Chorus Concert @ MS
DTSTAMP:20241212T190000
ORGANIZER;CN=Stefanie Adams:MAILTO:DISABLED-USER-AdamsSR@pcam.org
DTSTART;TZID=Etc/GMT+5:20241212T190000
DTEND;TZID=Etc/GMT+5:20241212T200000
URL;VALUE=URI:http://www.pcam.org/my-calendar/
DESCRIPTION: 
CATEGORIES:High School
END:VEVENT
BEGIN:VEVENT
UID:1407-603
LOCATION:
SUMMARY:Middle School Christmas Concert
DTSTAMP:20241210T000000
ORGANIZER;CN=Robin Stasik:MAILTO:StasikRL@pcam.org
DTSTART;TZID=Etc/GMT+5:20241210T000000
DTEND;TZID=Etc/GMT+5:20241211T000000
URL;VALUE=URI:http://www.pcam.org/my-calendar/
DESCRIPTION: 
CATEGORIES:Middle School
X-FUNAMBOL-ALLDAY: 1
X-MICROSOFT-CDO-ALLDAYEVENT: TRUE

END:VEVENT
BEGIN:VEVENT
UID:1403-602
LOCATION:
SUMMARY:Picture Re-Take Day starting at 8:30 am
DTSTAMP:20241021T000000
ORGANIZER;CN=Robin Stasik:MAILTO:StasikRL@pcam.org
DTSTART;TZID=Etc/GMT+5:20241021T000000
DTEND;TZID=Etc/GMT+5:20241022T000000
URL;VALUE=URI:http://www.pcam.org/my-calendar/
DESCRIPTION: 
CATEGORIES:Middle School
X-FUNAMBOL-ALLDAY: 1
X-MICROSOFT-CDO-ALLDAYEVENT: TRUE

END:VEVENT
BEGIN:VEVENT
UID:1439-601
LOCATION:
SUMMARY:Christmas Vacation
DTSTAMP:20251231T000000
ORGANIZER;CN=Jacquelyn Mento:MAILTO:mentojp@pcam.org
DTSTART;TZID=Etc/GMT+5:20251231T000000
DTEND;TZID=Etc/GMT+5:20260101T000000
URL;VALUE=URI:http://www.pcam.org/my-calendar/
DESCRIPTION: 
CATEGORIES:General
X-FUNAMBOL-ALLDAY: 1
X-MICROSOFT-CDO-ALLDAYEVENT: TRUE

END:VEVENT
BEGIN:VEVENT
UID:1380-600
LOCATION:
SUMMARY:Picture Re-Take Day
DTSTAMP:20231121T083000
ORGANIZER;CN=Robin Stasik:MAILTO:StasikRL@pcam.org
DTSTART;TZID=Etc/GMT+5:20231121T083000
DTEND;TZID=Etc/GMT+5:20231121T093000
URL;VALUE=URI:http://www.pcam.org/my-calendar/
DESCRIPTION: 
CATEGORIES:Middle School
END:VEVENT
BEGIN:VEVENT
UID:1379-599
LOCATION:
SUMMARY:PTO SPONSORED GARDNER'S CANDY SALE PICK UP- 4-7PM at PENN CAMBRIA INTERMEDIATE SCHOOL
DTSTAMP:20231108T000000
ORGANIZER;CN=Carrie Fogel:MAILTO:fogelca@pcam.org
DTSTART;TZID=Etc/GMT+5:20231108T000000
DTEND;TZID=Etc/GMT+5:20231109T000000
URL;VALUE=URI:http://www.pcam.org/my-calendar/
DESCRIPTION: 
CATEGORIES:Pre-Primary School
X-FUNAMBOL-ALLDAY: 1
X-MICROSOFT-CDO-ALLDAYEVENT: TRUE

END:VEVENT
BEGIN:VEVENT
UID:1378-598
LOCATION:
SUMMARY:PENN CAMBRIA PTO ONLINE STORE CLOSES
DTSTAMP:20231015T000000
ORGANIZER;CN=Carrie Fogel:MAILTO:fogelca@pcam.org
DTSTART;TZID=Etc/GMT+5:20231015T000000
DTEND;TZID=Etc/GMT+5:20231016T000000
URL;VALUE=URI:http://www.pcam.org/my-calendar/
DESCRIPTION: 
CATEGORIES:Pre-Primary School
X-FUNAMBOL-ALLDAY: 1
X-MICROSOFT-CDO-ALLDAYEVENT: TRUE

END:VEVENT
END:VCALENDAR